BEGIN:VCALENDAR
VERSION:2.0
PRODID:-//wp-events-plugin.com//7.2.3.1//EN
TZID:Europe/Berlin
X-WR-TIMEZONE:Europe/Berlin
BEGIN:VEVENT
UID:428@dghd.de
DTSTART;TZID=Europe/Berlin;VALUE=DATE:20211101
DTEND;TZID=Europe/Berlin;VALUE=DATE:20211102
DTSTAMP:20211006T142611Z
URL:https://www.dghd.de/events/zweite-sotl-rundreise-2021-22/
SUMMARY:Zweite SoTL-Rundreise 2021/22
DESCRIPTION:Ziel dabei ist es\, die Vielfalt von SoTL an deutschsprachigen 
 Hochschulen zu entdecken und einen hochschul-\, disziplinen- und statusgru
 ppenübergreifenden Austausch zu fördern. Hierzu werden Local Guides gesu
 cht\, die ihre SoTL-Sehenswürdigkeiten in einer 90minütigen digitalen Ve
 ranstaltungen präsentieren möchten. Einreichungen sind bis zum bis zum 1
 . November 2021 möglich. Die Ausschreibung ist hier zu finden.
END:VEVENT
BEGIN:VTIMEZONE
TZID:Europe/Berlin
X-LIC-LOCATION:Europe/Berlin
BEGIN:STANDARD
DTSTART:20211031T020000
TZOFFSETFROM:+0200
TZOFFSETTO:+0100
TZNAME:CET
END:STANDARD
END:VTIMEZONE
END:VCALENDAR