BEGIN:VCALENDAR
VERSION:2.0
PRODID:-//wp-events-plugin.com//7.2.3.1//EN
TZID:Europe/Berlin
X-WR-TIMEZONE:Europe/Berlin
BEGIN:VEVENT
UID:554@dghd.de
DTSTART;TZID=Europe/Berlin;VALUE=DATE:20231213
DTEND;TZID=Europe/Berlin;VALUE=DATE:20231214
DTSTAMP:20231212T072246Z
URL:https://www.dghd.de/events/wissenschaftsdidaktik-als-selbstreflexion-u
 nd-kommunikation-ueber-den-sinn-und-den-moeglichen-unsinn-akademisch-diszi
 plinaerer-praktiken/
SUMMARY:Wissenschaftsdidaktik als Selbstreflexion und Kommunikation über d
 en Sinn und den möglichen Unsinn akademisch-disziplinärer Praktiken
DESCRIPTION:Wissenschaftliche Disziplinen haben ihre ganz eigene Kultur\, d
 ie sich in spezifischen Praktiken ausdrückt\, z. B. wie zitiert wird oder
  was als wissenschaftliche Sprache gilt. Solche Regeln sind für Hochschul
 lehrende ganz selbstverständlich und oft nicht mehr bewusst zugänglich. 
 Für Studierende können die Erwartungen\, die sich aus fachkulturellen Pr
 aktiken ergeben\, allerdings unverständlich sein und Irritationen auslös
 en. Im High Noon entdecken wir uns selbst als „Freaks“ und überlegen\
 , wie wir unsere fachkulturellen Prägungen reflektieren und deren Sinn ko
 mmunizieren können.\n\nÜber Tobias Jenert:\n\nTobias Jenert ist Professo
 r für Wirtschaftspädagogik\, insbes. Hochschuldidaktik und -entwicklung.
  Er forscht zur Transformation von beruflicher und Hochschulbildung vor de
 m Hintergrund gesellschaftlicher und ökonomischer Trends.\n\nVortrag im R
 ahmen der kostenlosen Veranstaltungsreihe High Noon - Didaktik zu Mittag d
 er Universität Graz\, Österreich\n\nLink zum Raum: https://uni-graz.zoom
 .us/j/67254632940\, Meeting-ID: 672 5463 2940
END:VEVENT
BEGIN:VTIMEZONE
TZID:Europe/Berlin
X-LIC-LOCATION:Europe/Berlin
BEGIN:STANDARD
DTSTART:20231029T020000
TZOFFSETFROM:+0200
TZOFFSETTO:+0100
TZNAME:CET
END:STANDARD
END:VTIMEZONE
END:VCALENDAR