BEGIN:VCALENDAR
VERSION:2.0
PRODID:-//wp-events-plugin.com//7.2.3.1//EN
TZID:Europe/Berlin
X-WR-TIMEZONE:Europe/Berlin
BEGIN:VEVENT
UID:417@dghd.de
DTSTART;TZID=Europe/Berlin;VALUE=DATE:20211102
DTEND;TZID=Europe/Berlin;VALUE=DATE:20211105
DTSTAMP:20210907T064707Z
URL:https://www.dghd.de/events/universityfuture-festival-open-for-discussi
 on/
SUMMARY:University:Future Festival - Open for discussion
DESCRIPTION:Das Motto des University:Future Festivals 2021 lautet: Open for
  discussion. Es steht für Offenheit\, für Zugänglichkeit\, für Diskurs
  - und dafür\, gemeinsam die Zukunft auszuloten. Das Programm speist sich
  hauptsächlich durch Einreichungen aus unserer Community.\n\nAm 2. Novemb
 er startet das Event mit dem Demo:Day\, der sich an alle richtet\, die sic
 h für technische Lösungen interessieren. Besucher*innen probieren hier i
 nnovative EdTech-Ideen und Werkzeuge aus und lernen die Macher*innen dahin
 ter kennen. Ebenfalls am 2. November findet der BarCamp:Day statt. Im BarC
 amp-Format finden auch spontane spontane Diskussionsbeiträge ihren Platz.
 \n\nAm 3. November findet der Conference:Day statt\, an dem Speaker*innen 
 aus Deutschland und der Welt ihre Erkenntnisse und Erfahrungen teilen. Zu 
 den bestätigten Speaker*innen im vergangenen Jahr zählten Bundesminister
 in Anja Karliczek\, EU-Kommissarin Mariya Gabriel und Riel Miller von der 
 UNESCO. Wenn die Lage es erlaubt \, werden wir zum Conference:Day ein begr
 enztes Studiopublikum zulassen.\n\nDas Festival endet am 4. November mit d
 em Workshops:Day\, der für längere und interaktive Formate Raum schafft.
 \n\nDer Call for Participation\nVom 21. Juli bis 17. September können sic
 h alle Interessierten am Programm-Call des University:Future Festivals bet
 eiligen. Gesucht werden Beiträge\, die überraschende Erkenntnisse aufzei
 gen\, die Erfahrungen aus der Praxis und Anwendungswissen vermitteln\, die
  augenöffnend\, spannend und unterhaltsam sind.\n\nGeplant sind folgende 
 Tracks:\n\nCampus - der Track zu Räumen\, Verwaltung und Partizipation\nD
 ata - der Track zu digitaler Souveränität\, Standards\, Datenschutz und 
 Recht\nInclusivity - der Track zu Diversity und Barrierefreiheit\nLead - d
 er Track zu Strategie und Leadership\nLearn - der Track zu Lehren und Lern
 en\nSkills - der Track zu Kompetenzen und Qualifizierung\nKI -  der Track
  zu Künstlicher Intelligenz\nVision - der Track für Visionen und Nachhal
 tigkeit\n\nTrack-Partner des KI-Tracks ist der KI-Campus\, die Lernplattfo
 rm für Künstliche Intelligenz.
ATTACH;FMTTYPE=image/jpeg:https://www.dghd.de/wp-content/uploads/2021/09/H
 FD_UF_Festival_2021_Logo_Schwarz_RGB.jpg
END:VEVENT
BEGIN:VTIMEZONE
TZID:Europe/Berlin
X-LIC-LOCATION:Europe/Berlin
BEGIN:STANDARD
DTSTART:20211031T020000
TZOFFSETFROM:+0200
TZOFFSETTO:+0100
TZNAME:CET
END:STANDARD
END:VTIMEZONE
END:VCALENDAR