BEGIN:VCALENDAR
VERSION:2.0
PRODID:-//wp-events-plugin.com//7.2.3.1//EN
TZID:Europe/Berlin
X-WR-TIMEZONE:Europe/Berlin
BEGIN:VEVENT
UID:421@dghd.de
DTSTART;TZID=Europe/Berlin;VALUE=DATE:20210921
DTEND;TZID=Europe/Berlin;VALUE=DATE:20210922
DTSTAMP:20210920T074855Z
URL:https://www.dghd.de/events/treffen-der-ag-traininerinnen/
SUMMARY:Treffen der AG Traininer*innen
DESCRIPTION:Die AG Trainer*innen trifft sich seit Anfang 2021 regelmäßig 
 per Zoom und tauscht sich unter anderem über die Gestaltung von Workshops
  online und in Präsenz aus und arbeitet an einem Code of Coduct für hoc
 hschuldidaktische Workshops als OER.\nNeue Mitglieder sind herzlich will
 kommen!\n\nDas nächste Treffen findet am 21.9. ab 18.30 Uhr via Zoom stat
 t. Interessierte können sich bei schumacher@lernen-als-weg.de melden.
END:VEVENT
BEGIN:VTIMEZONE
TZID:Europe/Berlin
X-LIC-LOCATION:Europe/Berlin
BEGIN:DAYLIGHT
DTSTART:20210328T030000
TZOFFSETFROM:+0100
TZOFFSETTO:+0200
TZNAME:CEST
END:DAYLIGHT
END:VTIMEZONE
END:VCALENDAR