BEGIN:VCALENDAR
VERSION:2.0
PRODID:-//wp-events-plugin.com//7.2.3.1//EN
TZID:Europe/Berlin
X-WR-TIMEZONE:Europe/Berlin
BEGIN:VEVENT
UID:249@dghd.de
DTSTART;TZID=Europe/Berlin;VALUE=DATE:20200624
DTEND;TZID=Europe/Berlin;VALUE=DATE:20200625
DTSTAMP:20200619T095421Z
URL:https://www.dghd.de/events/tag-der-lehre-universitaet-leipzig/
SUMMARY:Tag der Lehre Universität Leipzig
DESCRIPTION:Der Tag der Lehre findet in diesem Jahr am 24. Juni 2020 unter 
 besonderen Bedingungen statt. Erstmals treffen sich Lehrende\, Studierende
  und Mitarbeitende der Universität im virtuellen Raum. Unter dem Leitmoti
 v „Inspiration\, Innovation. Impact. #ULvirtuell“ stellen sie innovati
 ve Lehrideen vor\, tauschen sich über aktuelle Entwicklungen aus und konz
 ipieren Ideen für die Lehre der Zukunft. Der Fokus ist dabei auf die Viel
 falt und gesamtuniversitäre Wirkung von innovativen und zukunftsweisenden
  Lehr-Lern-Szenarien gerichtet – seien sie technologiegestützt\, transn
 ational oder besonders nachhaltig. Außerdem wird die Möglichkeit bestehe
 n\, sich über das digitale Semester auszutauschen: Was ist gut gelaufen? 
 Wo fehlt die Präsenzlehre? Welche Werkzeuge und Konzepte können wir nach
 haltig nutzen?
ATTACH;FMTTYPE=image/jpeg:https://www.dghd.de/wp-content/uploads/2020/06/T
 dL-2020-Email-1600x400-1-scaled.jpg
END:VEVENT
BEGIN:VTIMEZONE
TZID:Europe/Berlin
X-LIC-LOCATION:Europe/Berlin
BEGIN:DAYLIGHT
DTSTART:20200329T030000
TZOFFSETFROM:+0100
TZOFFSETTO:+0200
TZNAME:CEST
END:DAYLIGHT
END:VTIMEZONE
END:VCALENDAR