BEGIN:VCALENDAR
VERSION:2.0
PRODID:-//wp-events-plugin.com//7.2.3.1//EN
TZID:Europe/Berlin
X-WR-TIMEZONE:Europe/Berlin
BEGIN:VEVENT
UID:469@dghd.de
DTSTART;TZID=Europe/Berlin;VALUE=DATE:20221117
DTEND;TZID=Europe/Berlin;VALUE=DATE:20221118
DTSTAMP:20221024T124011Z
URL:https://www.dghd.de/events/tag-der-lehre-der-universitaet-greifswald-t
 hema-lehr-lern-raeume-der-zukunft/
SUMMARY:Tag der Lehre der Universität Greifswald - Thema: Lehr-Lern-Räume
  der Zukunft
DESCRIPTION:Wie müssen Lehr-Lern-Räume der Zukunft ausgestattet sein\, um
  didaktisch gute und an die jeweilige Situation angepasste Lehre durchfüh
 ren zu können und zwar im reellen\, virtuellen und hybriden Raum? Wie lä
 sst sich Barrierefreiheit in solchen Räumen erreichen? Über diese und ä
 hnliche Fragen wollen wir gemeinsam reflektieren\, Good-practice-Beispiele
  kennenlernen und auf Grundlage des Inputs von Expert*innen Konzepte erarb
 eiten. Die Tagung findet online statt. Interessierte Personen etwa aus den
  Reihen der Lehrenden\, Vertreter*innen hochschuldidaktischer Einrichtunge
 n oder der Raum-Bauplanungen sind ausdrücklich eingeladen! Nähere Inform
 ationen folgen in Kürze. Fragen dazu beantwortet Dr. Michael Schöner (mi
 chael.schoener (at) uni-greifswald.de).    \nProgramm\n09:00 - 09:15 Uhr
    Ankommen\n09:15 - 09:30 Uhr    Begrüßung Dr. Jana Kiesendahl und 
 Dr. Michael Schöner\n09:30 - 09:45 Uhr   Begrüßung Prorektorin Dorthe
  G. A. Hartmann\n09:45 - 10:30 Uhr   Keynote: Lehr-Lern-Räume der Zukun
 ft\, Anne Prill (CHE)\n10:30 – 11:00 Uhr   Kaffeepause\n11:00 - 12:00 
 Uhr    Parallele Workshops und Ideenwerkstätten\n\nDer erweiterte Lern
 ort: Lernen an außeruniversitären Lernorten\, Einbeziehung von virtual/
 augmented reality in die digitale LehreWorkshopleitung: Prof. Rolf Kruse (
 FH Erfurt)\nWelchen Raum braucht hybride Lehre?Workshopleitung: PD Dr. Mar
 ion Grein (Johannes-Gutenberg-Universität Mainz)\nDer pragmatische Raum: 
 Wie lassen sich Lehr-Lern-Räume so gestalten\, dass sie ad hoc an bestimm
 te Lehr-Lern-Settings angepasst werden können?Workshopleitung: Frithjof N
 ürnberger (Universität Greifswald)\nBarrierefreiheit in realen und virtu
 ellen RäumenWorkshopleitung: Dr. Stefanie Dreiack (Koordinierungsstelle C
 hancengleichtheit Sachsen)\nGebäudeplanung der Zukunft: Wie können baul
 iche Maßnahmen eine lernförderliche Umgebung und den aktiven Austausch d
 er Lernenden fördern? Workshopleitung: Monika Kloth (PH Luzern\, Leiteri
 n des Gebäudemanagements)\n\n12:00 - 13:00 Uhr    Mittagspause\n13:00
  - 14:00 Uhr    Plenumsdiskussion über die Ergebnisse der Workshops\n
 14:00 - 14:15 Uhr    Good Practice-Elevator Pitches\n14:15 - 14:30 Uhr
     Schlussworte\n14:30 - open end   Virtuelles Netzwerken und Austau
 sch mit Good Practices\n&nbsp\;\nKontakt:     Dr. Michael Schöner\, Le
 iter der Hochschuldidaktik der Universität Greifswald (michael.schoener (
 at) uni-greifswald.de) Dr. Jana Kiesendahl\, Leiterin des Bereichs Digital
 e Lehre der Universität Greifswald (jana.kiesendahl (at) uni-greifswald.d
 e)
END:VEVENT
BEGIN:VTIMEZONE
TZID:Europe/Berlin
X-LIC-LOCATION:Europe/Berlin
BEGIN:STANDARD
DTSTART:20221030T020000
TZOFFSETFROM:+0200
TZOFFSETTO:+0100
TZNAME:CET
END:STANDARD
END:VTIMEZONE
END:VCALENDAR