BEGIN:VCALENDAR
VERSION:2.0
PRODID:-//wp-events-plugin.com//7.2.3.1//EN
TZID:Europe/Berlin
X-WR-TIMEZONE:Europe/Berlin
BEGIN:VEVENT
UID:117@dghd.de
DTSTART;TZID=Europe/Berlin;VALUE=DATE:20180508
DTEND;TZID=Europe/Berlin;VALUE=DATE:20180509
DTSTAMP:20180214T090952Z
URL:https://www.dghd.de/events/tag-der-lehre-der-fachhochschule-oberoester
 reich/
SUMMARY:Tag der Lehre der Fachhochschule Oberösterreich
DESCRIPTION:
ATTACH;FMTTYPE=image/jpeg:https://www.dghd.de/wp-content/uploads/2018/02/B
 ild-TdL-2018-1-scaled.jpg
END:VEVENT
BEGIN:VTIMEZONE
TZID:Europe/Berlin
X-LIC-LOCATION:Europe/Berlin
BEGIN:DAYLIGHT
DTSTART:20180325T030000
TZOFFSETFROM:+0100
TZOFFSETTO:+0200
TZNAME:CEST
END:DAYLIGHT
END:VTIMEZONE
END:VCALENDAR