BEGIN:VCALENDAR
VERSION:2.0
PRODID:-//wp-events-plugin.com//7.2.3.1//EN
TZID:Europe/Berlin
X-WR-TIMEZONE:Europe/Berlin
BEGIN:VEVENT
UID:627@dghd.de
DTSTART;TZID=Europe/Berlin;VALUE=DATE:20250925
DTEND;TZID=Europe/Berlin;VALUE=DATE:20250926
DTSTAMP:20250425T165734Z
URL:https://www.dghd.de/events/tag-der-digitalen-lehre-2025-am-campus-rege
 nsburg-fokusthema-pruefen-ki-klausur-und-kompetenzen/
SUMMARY:Tag der digitalen Lehre 2025 am Campus Regensburg - Fokusthema "Pr
 üfen: KI\, Klausur und Kompetenzen"
DESCRIPTION:In einer Welt\, die sich durch die rasante Entwicklung künstli
 cher Intelligenz immer weiter verändert\, stellt sich die Frage\, wie mod
 erne Technologien die Art und Weise beeinflussen\, wie wir Wissen messen u
 nd Kompetenzen prüfen. Am diesjährigen Tag der digitalen Lehre werden wi
 r das Zusammenspiel zwischen KI-gestützten Ansätzen\, Prüfungsformaten 
 und den Anforderungen der Zukunft aus verschiedenen Perspektiven in den Bl
 ick nehmen und mögliche Szenarien aufzeigen.\n\nCall for Abstracts\nLehre
 nde aller Fachbereiche sind eingeladen\, sich über ihre Konzepte und Erfa
 hrungen bei der Gestaltung und Umsetzung innovativer Prüfungsformate ausz
 utauschen. Auch Studierende können ihre Sichtweise und Erlebnisse aus der
  Prüfungspraxis einbringen.\nAusführliche Informationen zum Call sowie d
 as Formular zur Einreichung des Abstracts finden Sie unter https://tag-der
 -digitalen-lehre.de/call-for-abstracts/.\n\nAusführliche Informationen zu
 r Veranstaltung finden Sie unter https://tag-der-digitalen-lehre.de/.
END:VEVENT
BEGIN:VTIMEZONE
TZID:Europe/Berlin
X-LIC-LOCATION:Europe/Berlin
BEGIN:DAYLIGHT
DTSTART:20250330T030000
TZOFFSETFROM:+0100
TZOFFSETTO:+0200
TZNAME:CEST
END:DAYLIGHT
END:VTIMEZONE
END:VCALENDAR