BEGIN:VCALENDAR
VERSION:2.0
PRODID:-//wp-events-plugin.com//7.2.3.1//EN
TZID:Europe/Berlin
X-WR-TIMEZONE:Europe/Berlin
BEGIN:VEVENT
UID:468@dghd.de
DTSTART;TZID=Europe/Berlin;VALUE=DATE:20220927
DTEND;TZID=Europe/Berlin;VALUE=DATE:20220929
DTSTAMP:20220620T101603Z
URL:https://www.dghd.de/events/tag-der-digitalen-lehre-2022/
SUMMARY:Tag der digitalen Lehre 2022
DESCRIPTION:Tag der digitalen Lehre am Campus Regensburg am 27. und 28.09.2
 022\n\nCorona hat die Hochschullehre nachhaltig verändert. In den vier Co
 rona-Semestern entstanden zahlreiche kreative und didaktisch gewinnbringen
 de Szenarien\, die auch zukünftig Eingang in die Lehre finden.\nUnter dem
  Motto „Lehre! Alles bleibt möglich.“ teilen am diesjährigen Tag der
  digitalen Lehre fachübergreifend Lehrende und Studierende verschiedener 
 Universitäten und Hochschulen ihre Erfahrungen und Ideen für ihre Lehre 
 post Corona.\n\nDer Tag der digitalen Lehre 2022 findet auch heuer im hybr
 iden Format statt: Die Tagung kombiniert virtuelle Keynotes und Präsentat
 ionen (Tag 1) mit Präsenzworkshops (Tag 2).\n\nWir freuen uns\, am 27.09.
 2022 zwei hochrangig besetzte Keynotes präsentieren zu können: Prof. Dr.
  Claude Müller Werder (Zürcher Hochschule für Angewandte Wissenschaften
 ) stellt empirische Befunde und praktische Gestaltungsempfehlungen zu Blen
 ded Learning vor. Anschließend widmet sich Prof. Dr. Stefan Bauberger SJ 
 (Hochschule für Philosophie München) der Frage\, wie sich KI in der Hoch
 schullehre human gestalten lässt.\nEin weiterer Programmpunkt des ersten 
 Tages ist die Präsentation von Good-Practice-Beispielen: Dozierende aus d
 em gesamten deutschsprachigen Raum teilen ihre Erfahrungen und Ideen für 
 ihre Lehre post Corona.\n\nAm 28.09.2022 finden in Präsenz drei Workshops
  statt (Veranstaltungsort: Universität Regensburg\, Vielberth-Gebäude):\
 n(1) Open Educational Resources/Creative Commons\n(2) Storytelling in der 
 Lehre – narrative Schätze heben\n(3) Erstellung von Lehrvideos\n\nWie i
 mmer ist die Teilnahme am Tag der digitalen Lehre in Regensburg kostenfrei
 .
ATTACH;FMTTYPE=image/jpeg:https://www.dghd.de/wp-content/uploads/2022/06/T
 ddL-Banner.png
END:VEVENT
BEGIN:VTIMEZONE
TZID:Europe/Berlin
X-LIC-LOCATION:Europe/Berlin
BEGIN:DAYLIGHT
DTSTART:20220327T030000
TZOFFSETFROM:+0100
TZOFFSETTO:+0200
TZNAME:CEST
END:DAYLIGHT
END:VTIMEZONE
END:VCALENDAR