BEGIN:VCALENDAR
VERSION:2.0
PRODID:-//wp-events-plugin.com//7.2.3.1//EN
TZID:Europe/Berlin
X-WR-TIMEZONE:Europe/Berlin
BEGIN:VEVENT
UID:472@dghd.de
DTSTART;TZID=Europe/Berlin;VALUE=DATE:20221010
DTEND;TZID=Europe/Berlin;VALUE=DATE:20221014
DTSTAMP:20220705T073148Z
URL:https://www.dghd.de/events/symposium-wissenschaft-trifft-engagement-se
 rvice-learning-in-der-digital-gestuetzten-hochschullehre/
SUMMARY:Symposium - Wissenschaft trifft Engagement: Service Learning in der
  (digital gestützten) Hochschullehre
DESCRIPTION:Sind Sie an Ihrer Hochschule bereits im Bereich Service Learnin
 g aktiv oder Sie interessieren sich für diese Methode? Dann laden wir Sie
  herzlich zu unserem Symposium ein. Es bietet ein kostenfreies und vielfä
 ltiges\, internationales Programm\, bei dem sowohl Service Learning Erfahr
 ene als auch Unerfahrene von Input und Austausch profitieren können.\n\nU
 nter dem Titel „Wissenschaft trifft Engagement: Service Learning in der 
 (digital gestützten) Hochschullehre“ werden von 10. bis 13. Oktober 202
 2 (überwiegend online) insgesamt drei internationale Keynotes\, neun inte
 raktive Workshops sowie neun facettenreiche Vorträge rund um Service Lear
 ning stattfinden.\n\nDas Symposium wird im Rahmen des Verbundprojekts „Q
 ualität digital gestützter Lehre an bayerischen Hochschulen steigern (QU
 ADIS)“ veranstaltet. Organisiert wird es vom Bayerischen Zentrum für in
 novative Lehre und der KU Eichstätt-Ingolstadt. Eine Anrechnung der Teiln
 ahme auf das Zertifikatsprogramm der bayerischen Hochschulen (PLP) ist mö
 glich.
ATTACH;FMTTYPE=image/jpeg:https://www.dghd.de/wp-content/uploads/2022/07/2
 0220426_QUADIS_SymposiumSL_SavetheDate.jpg
END:VEVENT
BEGIN:VTIMEZONE
TZID:Europe/Berlin
X-LIC-LOCATION:Europe/Berlin
BEGIN:DAYLIGHT
DTSTART:20220327T030000
TZOFFSETFROM:+0100
TZOFFSETTO:+0200
TZNAME:CEST
END:DAYLIGHT
END:VTIMEZONE
END:VCALENDAR