BEGIN:VCALENDAR
VERSION:2.0
PRODID:-//wp-events-plugin.com//7.2.3.1//EN
TZID:Europe/Berlin
X-WR-TIMEZONE:Europe/Berlin
BEGIN:VEVENT
UID:556@dghd.de
DTSTART;TZID=Europe/Berlin;VALUE=DATE:20240318
DTEND;TZID=Europe/Berlin;VALUE=DATE:20240321
DTSTAMP:20240116T135431Z
URL:https://www.dghd.de/events/symposium-campus-meets-castle-vernetzt-in-d
 ie-zukunft-durch-kompetenzorientierte-lehre-in-den-faechern/
SUMMARY:Symposium „Campus meets Castle – Vernetzt in die Zukunft durch 
 kompetenzorientierte Lehre in den Fächern“
DESCRIPTION:Das erwartet Sie auf dem kostenlosen QUADIS-Symposium Campus me
 ets Castle - Vernetzt in die Zukunft durch kompetenzorientierte Lehre in d
 en Fächern vom 18. - 20. März 2024:\n\nTag 1: Inspiration\nWir starten a
 m 18.03. mit einem Inspirationstag am Campus der Universität Bayreuth mit
  spannenden Vorträgen\, Einblicken in die Praxis und vielen Möglichkeite
 n zum Ausprobieren vor Ort. Freuen Sie sich auf fachspezifische Good-Pract
 ice-Beispiele sowie fächerübergreifende und interdisziplinäre Ansätze 
 zur Kompetenzförderung!\n\nTag 2: Retreat\nAm 19.03. können Sie sich wä
 hrend unseres Retreat-Tags im Stile einer Zukunftswerkstatt auf Schloss T
 hurnau in fachspezifischen\, fachübergreifenden oder interdisziplinären 
 Kleingruppen konkret Ihren eigenen Fragestellungen und Herausforderungen b
 eim Thema Kompetenzförderung in den Fächern durch Digitalisierung widmen
 .\n\nTag 3: Reflexion\nDen Abschluss bildet dann am 20.03. der Reflexionst
 ag zurück am Campus der Universität Bayreuth\, wo wir die erarbeiteten E
 rgebnisse und Ansätze gemeinsam reflektieren und diskutieren werden. Auß
 erdem wollen wir einen Ausblick auf die strategische Weiterentwicklung der
  Kompetenzförderung an unseren Hochschulen wagen.\n\nMehr Informationen f
 inden Sie auf unserer Website!
ATTACH;FMTTYPE=image/jpeg:https://www.dghd.de/wp-content/uploads/2024/01/1
 702911324067.jpg
END:VEVENT
BEGIN:VTIMEZONE
TZID:Europe/Berlin
X-LIC-LOCATION:Europe/Berlin
BEGIN:STANDARD
DTSTART:20231029T020000
TZOFFSETFROM:+0200
TZOFFSETTO:+0100
TZNAME:CET
END:STANDARD
END:VTIMEZONE
END:VCALENDAR