BEGIN:VCALENDAR
VERSION:2.0
PRODID:-//wp-events-plugin.com//7.2.3.1//EN
TZID:Europe/Berlin
X-WR-TIMEZONE:Europe/Berlin
BEGIN:VEVENT
UID:248@dghd.de
DTSTART;TZID=Europe/Berlin;VALUE=DATE:20200917
DTEND;TZID=Europe/Berlin;VALUE=DATE:20200919
DTSTAMP:20200630T223251Z
URL:https://www.dghd.de/events/stufo2020-call-for-abstracts-geht-in-die-ve
 rlaengerung-noch-bis-zum-14-6-bewerben/
SUMMARY:StuFo2020 | Call for Abstracts geht in die Verlängerung – noch b
 is zum 14.6. bewerben
DESCRIPTION:Aufgrund der digitalen Form der 5. Konferenz für studentische 
 Forschung (kurz StuFo2020)\, welche am 17. + 18. September unter dem Motto
  „Forschungstriebe – Wachsen durch Wissenschaft“ stattfindet\, haben
  wir noch ausreichend Platz für weitere Teilnehmer. Um auch anderen Studi
 erenden noch die Möglichkeit zu geben Ihr Projekt oder Ihre Abschlussarbe
 it auf der StuFo2020 zu präsentieren\, haben wir uns entschlossen die Ein
 reichefrist für Abstracts noch bis zum 14.6. zu verlängern.\n\nNeben zah
 lreichen studentischen Beiträgen warten auch eine spannende Keynote\, Wor
 kshops und weitere innovative Formate auf Euch.\n\nHier habt Ihr trotz des
  Kontaktverbots die Möglichkeit Eure studentischen Forschungs- oder Lehr-
 /Lernprojekte anderen Studierenden aus ganz Deutschland und den verschiede
 nsten Fachbereichen vorzustellen und auch selbst einmal einen Einblick in 
 andere Forschungswelten zu erhalten. Darüber hinaus wird es auch im digit
 alen Raum genügend Gelegenheit geben\, sich mit anderen Studierenden ausz
 utauschen und zu vernetzen.\n\nAlso worauf wartet Ihr noch?\n\nNoch 10 Tag
 e (bis zum 14.6.) habt Ihr die Möglichkeit Euch über unsere Homepage fü
 r einen Vortragsplatz bei der erstmals digitalen StuFo zu bewerben.\n\nDie
  Anmeldung (für alle mit angenommenem Beitrag und alle ohne Beitrag) ist 
 seit Anfang Juni möglich. Um möglichst vielen Studierenden die Teilnahme
  an der Tagung zu ermöglichen\, werden keine Tagungsgebühren erhoben.\n\
 n&nbsp\;\n\nZielgruppe:\n\nDie Tagung richtet sich an Studierende aus alle
 n Fachrichtungen\, welche an einer deutschen Hochschule immatrikuliert sin
 d und ein studentisches Forschungs- oder Lehr-/Lernprojekt durchführen bz
 w. durchgeführt haben.
ATTACH;FMTTYPE=image/jpeg:https://www.dghd.de/wp-content/uploads/2020/06/T
 opic-Teaser01_14.6_Org.jpg
END:VEVENT
BEGIN:VTIMEZONE
TZID:Europe/Berlin
X-LIC-LOCATION:Europe/Berlin
BEGIN:DAYLIGHT
DTSTART:20200329T030000
TZOFFSETFROM:+0100
TZOFFSETTO:+0200
TZNAME:CEST
END:DAYLIGHT
END:VTIMEZONE
END:VCALENDAR