BEGIN:VCALENDAR
VERSION:2.0
PRODID:-//wp-events-plugin.com//7.2.3.1//EN
TZID:Europe/Berlin
X-WR-TIMEZONE:Europe/Berlin
BEGIN:VEVENT
UID:245@dghd.de
DTSTART;TZID=Europe/Berlin;VALUE=DATE:20200917
DTEND;TZID=Europe/Berlin;VALUE=DATE:20200919
DTSTAMP:20200504T143552Z
URL:https://www.dghd.de/events/stufo-goes-digital-call-for-abstracts-nur-n
 och-10-tage-5-konferenz-fuer-studentische-forschung/
SUMMARY:StuFo goes digital | Call for Abstracts – nur noch 10 Tage | 5. K
 onferenz für studentische Forschung
DESCRIPTION:Aufgrund der aktuellen Entwicklungen wird die 5. Konferenz für
  studentische Forschung (StuFo2020) in digitaler Form stattfinden. Wir sin
 d uns sicher\, dass die digitale Tagung sehr interessante und lehrreiche E
 rfahrungen für uns alle bietet. Neben Euren studentischen Beiträgen wart
 en eine spannende Keynote\, interaktive Workshops aber auch virtuelle Kaff
 eepausen und andere neue Formate auf Euch.\n\nWird so die Konferenz von mo
 rgen aussehen?\n\nIhr habt erstmals die Möglichkeit\, Eure studentischen 
 Forschungs- oder Lehr-/Lernprojekte anderen Studierenden aus ganz Deutschl
 and und den verschiedensten Fachbereichen per Webkonferenz vorzustellen\, 
 Eure Ergebnisse zu diskutieren und selbst Einblicke in ganz andere Forschu
 ngswelten zu erhalten. Darüber hinaus wird es auch im digitalen Raum krea
 tive Gelegenheiten geben\, sich mit anderen Studierenden und Wissenschaftl
 ern auszutauschen und zu vernetzen.\n\nAlso worauf wartet Ihr noch?\n\nNoc
 h bis zum 13.5. habt Ihr die Möglichkeit\, Euch über unsere Homepage mit
  einem eigenen Beitrag zur StuFo2020_digital zu bewerben.\n\nÜber Eure Te
 ilnahme und viele spannende Beiträge freuen wir uns schon heute.\n\nEuer 
 Humboldt reloaded-Team\n\n&nbsp\;
ATTACH;FMTTYPE=image/jpeg:https://www.dghd.de/wp-content/uploads/2020/05/S
 tuFo2020_digital_Teaser.jpg
END:VEVENT
BEGIN:VTIMEZONE
TZID:Europe/Berlin
X-LIC-LOCATION:Europe/Berlin
BEGIN:DAYLIGHT
DTSTART:20200329T030000
TZOFFSETFROM:+0100
TZOFFSETTO:+0200
TZNAME:CEST
END:DAYLIGHT
END:VTIMEZONE
END:VCALENDAR