BEGIN:VCALENDAR
VERSION:2.0
PRODID:-//wp-events-plugin.com//7.2.3.1//EN
TZID:Europe/Berlin
X-WR-TIMEZONE:Europe/Berlin
BEGIN:VEVENT
UID:486@dghd.de
DTSTART;TZID=Europe/Berlin;VALUE=DATE:20230119
DTEND;TZID=Europe/Berlin;VALUE=DATE:20230120
DTSTAMP:20221005T111324Z
URL:https://www.dghd.de/events/studiengaenge-fuer-die-digitale-welt-aber-w
 ie-das-flipped-online-barcamp-zum-thema-curriculumentwicklung/
SUMMARY:Studiengänge für die digitale Welt - aber wie? Das Flipped-Online
 -Barcamp zum Thema Curriculumentwicklung
DESCRIPTION:Digitalisierung und KI-Themen werden in Lehre und Studium seit 
 vielen Jahren vorangetrieben. Doch die Veränderung bestehender und Konstr
 uktion neuer Studiengänge und die damit einhergehenden neuen Kompetenzpro
 file stellen die Beteiligten an den Fachbereichen\, Fakultäten und Insti
 tuten vor viele Fragen. Das Hochschulforum Digitalisierung (HFD) und der K
 I-Campus laden vor diesem Hintergrund zu einem Curriculum-Barcamp ein\, in
  dem Erkenntnisse aus der eigenen Praxis mit Kolleg:innen anderer Hochschu
 len geteilt werden können.\n\nDas Curriculum-Barcamp “Studiengänge fü
 r die digitale Welt” ist ein Format\, das die Teilnehmenden und ihre The
 men in den Mittelpunkt stellt. Unter Kolleg:innen ist viel Wissen und Erfa
 hrung vorhanden und dieses Barcamp soll hochschulübergreifende Transfer- 
 und Austauschgelegenheiten schaffen\, bei denen:\n\n 	die Good-Practice de
 r Curriculumentwicklung verdeutlicht werden.\n 	Herausforderungen und Lös
 ungsansätze bei der Transformation von Curricula erkennbar werden.\n 	ein
 e geteilte Wissensbasis rund um die Themen der Curriculumentwicklung gesch
 affen wird.\n\nDie eintägige Online-Veranstaltung findet am 19.01.2023 st
 att. Die Vorbereitung des Curriculum-Barcamps erfolgt in vier Schritten: P
 itchen (bis zum 12.10.2022)\, Voten (bis zum 02.11.2022)\, Anmelden (bis z
 um 08.01.2023)\, Auftreten (am 19.01.2023).\n\nDas Barcamp richtet sich an
 \n\n 	Hochschulakteur:innen\, die aus verschiedenen Perspektiven mit der (
 Weiter-)Entwicklung von Curricula betraut sind\, z. B.:\n 	Hochschul- un
 d Fakultätsleitungen\, Stabstellen\, Referate (strategische Perspektive)\
 n 	Lehrende\, Studierende\, Studiengangsleiter:innen (Fachperspektive)\n 	
 Hochschuldidaktik\, Qualitätsentwicklung (methodische Perspektive)\n\nDie
  Teilnahme am Curriculum-Barcamp ist kostenfrei.
ATTACH;FMTTYPE=image/jpeg:https://www.dghd.de/wp-content/uploads/2022/09/2
 022-09-14_HFDxKIC_Curriculum-Barcamp2.png
END:VEVENT
BEGIN:VTIMEZONE
TZID:Europe/Berlin
X-LIC-LOCATION:Europe/Berlin
BEGIN:STANDARD
DTSTART:20221030T020000
TZOFFSETFROM:+0200
TZOFFSETTO:+0100
TZNAME:CET
END:STANDARD
END:VTIMEZONE
END:VCALENDAR