BEGIN:VCALENDAR
VERSION:2.0
PRODID:-//wp-events-plugin.com//7.2.3.1//EN
TZID:Europe/Berlin
X-WR-TIMEZONE:Europe/Berlin
BEGIN:VEVENT
UID:118@dghd.de
DTSTART;TZID=Europe/Berlin;VALUE=DATE:20180412
DTEND;TZID=Europe/Berlin;VALUE=DATE:20180414
DTSTAMP:20180220T103115Z
URL:https://www.dghd.de/events/rechtsvergleichung-als-didaktische-herausfo
 rderung-zur-bedeutung-der-rechtsvergleichung-im-juristischen-studium/
SUMMARY:Rechtsvergleichung als didaktische Herausforderung – Zur Bedeutun
 g der Rechtsvergleichung im juristischen Studium
DESCRIPTION:Die Rechtsvergleichung spielt in der juristischen Ausbildung de
 rzeit eine eher untergeordnete Rolle. Sie wird teilweise als Forschungsmet
 hode eingeordnet\, teilweise curricular als Grundlagenfach verortet. Dies 
 wird dem Potenzial\, das Rechtsvergleichung für die Ausbildung und das ju
 ristische Lernen hat\, nicht gerecht. So hat der Wissenschaftsrat in seine
 r viel diskutierten Stellungnahme zu den Perspektiven der Rechtswissenscha
 ft gefordert\, dass „im rechtswissenschaftlichen Studium rechtsvergleich
 ende Perspektiven stärker verankert werden sollten. Die Anwendung\, Ausle
 gung und Gestaltung des Rechts wird eine intensive Auseinandersetzung mit 
 den Regelungskonzepten anderer Rechtsordnungen und unterschiedlichen Profe
 ssions- wie Fachkulturen erfordern.“ Im Rahmen der Tagung sollen die Zus
 ammenhänge von Rechtsdidaktik und Rechtsvergleichung zum Gegenstand der B
 efassung gemacht werden\, um die damit verbundenen Chancen und Herausforde
 rungen in den Blick zu nehmen.\n\n&nbsp\;\n\nDie Teilnahme ist kostenfrei.
  Wenn Sie am gemeinsamen Abendessen am 12. April 2018 teilnehmen möchten\
 , fällt ein Betrag von max. 35 € an (Selbstkostenpreis\; zahlbar zu Beg
 inn der Tagung).\n\nHinweis: Aufgrund einer zeitgleich in Hamburg stattfin
 denden Messe konnte leider kein Hotelzimmer-Kontingent reserviert werden. 
 Sollten Sie eine Unterkunft benötigen\, empfehlen wir daher eine rechtzei
 tige Buchung.
END:VEVENT
BEGIN:VTIMEZONE
TZID:Europe/Berlin
X-LIC-LOCATION:Europe/Berlin
BEGIN:DAYLIGHT
DTSTART:20180325T030000
TZOFFSETFROM:+0100
TZOFFSETTO:+0200
TZNAME:CEST
END:DAYLIGHT
END:VTIMEZONE
END:VCALENDAR