BEGIN:VCALENDAR
VERSION:2.0
PRODID:-//wp-events-plugin.com//7.2.3.1//EN
TZID:Europe/Berlin
X-WR-TIMEZONE:Europe/Berlin
BEGIN:VEVENT
UID:81@dghd.de
DTSTART;TZID=Europe/Berlin;VALUE=DATE:20170915
DTEND;TZID=Europe/Berlin;VALUE=DATE:20170916
DTSTAMP:20170803T085937Z
URL:https://www.dghd.de/events/pruefungsordnungen-und-studienordnungen-rec
 htssichere-und-akkreditierungskonforme-loesungen-2/
SUMMARY:Prüfungsordnungen und Studienordnungen - Rechtssichere und akkredi
 tierungskonforme Lösungen
DESCRIPTION:\nPrüfungsordnungen und Studienordnungen - Rechtssichere und a
 kkreditierungskonforme Lösungen\n\nPrüfungsordnungen legen die Rahmenbed
 ingungen für Prüfungen an einer Hochschule fest. Sie sind rechtsverbindl
 ich und ihre Einhaltung kann gerichtlich eingefordert werden. Daher müsse
 n Prüfungsordnungen den (landes)rechtlichen Vorgaben entsprechen. Bei pr
 üfungsrechtlichen Streitigkeiten kommt es häufig darauf an\, ob Regelung
 en korrekt formuliert sind. Zu den Prüfungsordnungen gibt es\, sofern die
  beiden Ordnungen nicht kombiniert sind\, eine Studienordnung\, die den Au
 fbau des Studiums beschreibt\, das zum erfolgreichen Ablegen der entsprech
 enden Prüfungen befähigen soll. Die Akkreditierung stellt zudem Anforder
 ungen an die Inhalte und Transparenz der Ordnungen. \n\nZu den Workshopunt
 erlagen erhalten Sie kostenlos das Lehrbuch aus dem Nomos-Verlag des Refer
 enten Dr. Morgenroth\, das Ihnen als Nachschlagewerk einen schnellen Zugan
 g zu den wichtigen Prüfungsrechtsthemen für Ihre tägliche Arbeit an der
  Hochschule gewährt.\n\nZielgruppe: Dieser Workshop richtet sich vor alle
 m an Vertreter privater und staatlicher Hochschule\, die gemäß Landeshoc
 hschulgesetz dem öffentlichen Recht unterliegen. Zudem wird auf privatrec
 htliche Aspekte eingegangen\, die für staatliche Hochschulen bei bspw. We
 iterbildungsausgründungen und für private Hochschulen relevant sind\, di
 e gemäß Landeshochschulgesetz dem Privatrecht unterliegen.\n\nReferent: 
 Dr. Morgenroth ist seit mehr als 10 Jahren an der Ernst-Abbe-Hochschule Je
 na (EAH Jena) mit Prüfungsrecht beschäftigt. Er hat die Musterprüfungs-
  bzw- studienordnungen der EAH Jena federführend erstellt sowie mehrfach 
 überarbeitet. Dr. Morgenroth ist seit mehreren Jahren Referent und Fachau
 tor zum Prüfungsrecht (NVwZ 2014\, 32 ff.\; DÖV 2016\, 30 ff.).
END:VEVENT
BEGIN:VTIMEZONE
TZID:Europe/Berlin
X-LIC-LOCATION:Europe/Berlin
BEGIN:DAYLIGHT
DTSTART:20170326T030000
TZOFFSETFROM:+0100
TZOFFSETTO:+0200
TZNAME:CEST
END:DAYLIGHT
END:VTIMEZONE
END:VCALENDAR