BEGIN:VCALENDAR
VERSION:2.0
PRODID:-//wp-events-plugin.com//7.2.3.1//EN
TZID:Europe/Berlin
X-WR-TIMEZONE:Europe/Berlin
BEGIN:VEVENT
UID:631@dghd.de
DTSTART;TZID=Europe/Berlin;VALUE=DATE:20250527
DTEND;TZID=Europe/Berlin;VALUE=DATE:20250528
DTSTAMP:20250508T072012Z
URL:https://www.dghd.de/events/online-seminar-zum-deutschen-diversity-tag-
 2025/
SUMMARY:Online-Seminar zum Deutschen Diversity-Tag 2025
DESCRIPTION:Aus Anlass des Deutschen Diversity-Tages der Charta der Vielfal
 t gestaltet der Arbeitsbereich Hochschuldidaktik der FHöVPR M-V seit 2028
  jedes Jahr eine Aktion. Am 27. Mai 2025 wird ein zweistündiges Online-Se
 minar für Hochschullehrende und alle anderen Interessierten durchgeführt
 . Themenschwerpunkt ist der Umgang mit (Neuro)Diversität in der Lehre.\n\
 nInhalte des Online-Seminars:\n\n-     Diversitätsbegriff und Konzept
  der Diversitätsdimensionen\n\n-     Herausforderungen der Diversitä
 t und Heterogenität in der Lehre\n\n-     Fokus: Neurodiversität Ler
 nender - Was ist das und wie wirkt es sich aus?\n\n-     Lehrstrategie
 n (neuro-)diversitätsgerechter Lehre\n\nTermin: 27.05.2025\, 14:30 - 16:3
 0 Uhr\n\nDozentinnen: Birke Sander &amp\; Juliane Wegner (Arbeitsbereich H
 ochschuldidaktik der FHöVPR M-V)\n\nHop on - Teilnahme ohne Anmeldung per
  Zugangslink:\n\nhttps://teams.microsoft.com/l/meetup-join/19%3ameeting_Zj
 JjODVkZjEtZWZmOS00NjAzLTk1NmMtMzgwMjdmNjg0YTA5%40thread.v2/0?context=%7b%2
 2Tid%22%3a%22fbf4495b-1fdb-4045-a38d-f884f119eafa%22%2c%22Oid%22%3a%22b7fa
 a675-5caa-4ee0-8c6a-de4c607d6939%22%7d\n\n&nbsp\;
ATTACH;FMTTYPE=image/jpeg:https://www.dghd.de/wp-content/uploads/2025/05/F
 I-Logo-fuer-Hochschuldidaktik.png
END:VEVENT
BEGIN:VTIMEZONE
TZID:Europe/Berlin
X-LIC-LOCATION:Europe/Berlin
BEGIN:DAYLIGHT
DTSTART:20250330T030000
TZOFFSETFROM:+0100
TZOFFSETTO:+0200
TZNAME:CEST
END:DAYLIGHT
END:VTIMEZONE
END:VCALENDAR