BEGIN:VCALENDAR
VERSION:2.0
PRODID:-//wp-events-plugin.com//7.2.3.1//EN
TZID:Europe/Berlin
X-WR-TIMEZONE:Europe/Berlin
BEGIN:VEVENT
UID:489@dghd.de
DTSTART;TZID=Europe/Berlin;VALUE=DATE:20221024
DTEND;TZID=Europe/Berlin;VALUE=DATE:20221025
DTSTAMP:20221013T073639Z
URL:https://www.dghd.de/events/livestream-event-zu-ki-und-entrepreneurship
 /
SUMMARY:Livestream-Event zu KI und Entrepreneurship
DESCRIPTION:Moderiert wird die Veranstaltung von Ralph Caspers\, bekannt au
 s Fernsehsendungen wie „Wissen macht Ah!“\, „Quarks“ und „Die Se
 ndung mit der Maus“.\n\nEs diskutieren:\n- Vanessa Cann\, Geschäftsfüh
 rerin des KI Bundesverbands\n- Alexander Brem\, Direktor des Instituts fü
 r Entrepreneurship und Innovationsforschung an der Universität Stuttgart\
 n- Anne Mareike Schlinkert\, Co-Founder &amp\; COO der Katulu GmbH\n- Bart
  de Witte\, Founder &amp\; CEO der Hippo AI Foundation\n\nDie Zuschauer:in
 nen können ihre Fragen live via Chat in die Diskussion einbringen. Aljosc
 ha Burchardt\, Principal Researcher am Deutschen Forschungszentrum für K
 ünstliche Intelligenz (DFKI)\, übernimmt die Chatbetreuung.\n\nDer Lives
 tream wird via YouTube\, LinkedIn und Facebook ausgestrahlt.
ATTACH;FMTTYPE=image/jpeg:https://www.dghd.de/wp-content/uploads/2022/10/2
 022-10-11_Livestream-Entrepreneurship_LI_FB.png
END:VEVENT
BEGIN:VTIMEZONE
TZID:Europe/Berlin
X-LIC-LOCATION:Europe/Berlin
BEGIN:DAYLIGHT
DTSTART:20220327T030000
TZOFFSETFROM:+0100
TZOFFSETTO:+0200
TZNAME:CEST
END:DAYLIGHT
END:VTIMEZONE
END:VCALENDAR