BEGIN:VCALENDAR
VERSION:2.0
PRODID:-//wp-events-plugin.com//7.2.3.1//EN
TZID:Europe/Berlin
X-WR-TIMEZONE:Europe/Berlin
BEGIN:VEVENT
UID:575@dghd.de
DTSTART;TZID=Europe/Berlin;VALUE=DATE:20240515
DTEND;TZID=Europe/Berlin;VALUE=DATE:20240516
DTSTAMP:20240507T162305Z
URL:https://www.dghd.de/events/lets-talk-about-power-besprechbarmachen-von
 -machtverhaltnissen-und-diskriminierung/
SUMMARY:Let’s talk about power! Besprechbarmachen von Machtverhältnissen
  und Diskriminierung
DESCRIPTION:Hochschulen\, also auch Lehrveranstaltungen\, sind Räume\, die
  von gesellschaftlichen und institutionellen Macht- und Diskriminierungsst
 rukturen geprägt sind. Häufig ist dies nicht bewusst\, diskriminierendes
  Verhalten oft unintendiert. Der Vortrag gibt Impulse\, wie sich Lehr-Lern
 settings diskriminierungsreflexiv gestalten lassen\, um Machtverhältnisse
  (selbst-)kritisch besprechen und Diskriminierung vermeiden zu können sow
 ie Teilhabe/Beteiligung für alle zu ermöglichen.\n\nÜber Susanne Lummer
 ding:\nMedienwissenschaftlerin\, Coach und Organisationsberaterin in Deuts
 chland und Österreich\; Begleitung von Reflexions-\, Entscheidungs- und V
 eränderungsprozessen mit Blick auf gesellschaftliche und organisationale 
 Machtstrukturen sowie Stärkung von Diversität\, Diversitykompetenz und D
 iskriminierungskritik. www.lummerding.at\n\nMittwoch\, 15.5.2024\, 12:00-1
 3:00 Uhr\nLink zum Raum: https://uni-graz.zoom.us/j/63490268464?pwd=d01FMl
 ltbmhFbEFCMUtCS0YxSjA0Zz09\nMeeting-ID: 634 9026 8464\, Kenncode: 184097
ATTACH;FMTTYPE=image/jpeg:https://www.dghd.de/wp-content/uploads/2024/05/L
 ummerding-High-Noon.jpg
END:VEVENT
BEGIN:VTIMEZONE
TZID:Europe/Berlin
X-LIC-LOCATION:Europe/Berlin
BEGIN:DAYLIGHT
DTSTART:20240331T030000
TZOFFSETFROM:+0100
TZOFFSETTO:+0200
TZNAME:CEST
END:DAYLIGHT
END:VTIMEZONE
END:VCALENDAR