BEGIN:VCALENDAR
VERSION:2.0
PRODID:-//wp-events-plugin.com//7.2.3.1//EN
TZID:Europe/Berlin
X-WR-TIMEZONE:Europe/Berlin
BEGIN:VEVENT
UID:550@dghd.de
DTSTART;TZID=Europe/Berlin;VALUE=DATE:20240902
DTEND;TZID=Europe/Berlin;VALUE=DATE:20240904
DTSTAMP:20240131T092027Z
URL:https://www.dghd.de/events/learning-aid-2024/
SUMMARY:Learning AID 2024
DESCRIPTION:Im September 2024 wird es zum dritten Mal eine Learning AID-Tag
 ung geben – die Tagung zu Learning Analytics\, Artificial Intelligence u
 nd Data Mining in der Hochschulbildung. Die zweitägige Veranstaltung find
 et am Montag\, den 2. und Dienstag\, den 3. September 2024 an der Ruhr-Uni
 versität Bochum statt.\n\nWas ist die Learning AID?\n\nDie Learning AID i
 st im deutschsprachigen Raum eine der zentralen Plattformen für die Verne
 tzung und den Austausch über Künstliche Intelligenz und Learning Analyti
 cs in der Hochschullehre. In diesem Themenfeld ist es einerseits wichtig\,
  die Hochschule als Gesamtsystem zu betrachten\, andererseits sind spezifi
 sche Fragen u. a. im Kontext von Studienberatung\, Datenschutz\, Ethik\, I
 T\, E-Learning\, Hochschuldidaktik und lehrbezogenem Qualitätsmanagement 
 zu klären.\n\nDer Call for Submissions startet am 16. Januar 2024\, Sie f
 inden ihn u.a. auch hier im Blickwinkel.\n\nWeitere Informationen finden S
 ie hier.
END:VEVENT
BEGIN:VTIMEZONE
TZID:Europe/Berlin
X-LIC-LOCATION:Europe/Berlin
BEGIN:DAYLIGHT
DTSTART:20240331T030000
TZOFFSETFROM:+0100
TZOFFSETTO:+0200
TZNAME:CEST
END:DAYLIGHT
END:VTIMEZONE
END:VCALENDAR