BEGIN:VCALENDAR
VERSION:2.0
PRODID:-//wp-events-plugin.com//7.2.3.1//EN
TZID:Europe/Berlin
X-WR-TIMEZONE:Europe/Berlin
BEGIN:VEVENT
UID:419@dghd.de
DTSTART;TZID=Europe/Berlin;VALUE=DATE:20210924
DTEND;TZID=Europe/Berlin;VALUE=DATE:20210925
DTSTAMP:20210920T075718Z
URL:https://www.dghd.de/events/kommunikation-in-die-dghd-gemeinschaft-hine
 in-und-nach-aussen-einladung-zum-austausch-am-24-09/
SUMMARY:Kommunikation in die dghd-Gemeinschaft hinein und nach außen – E
 inladung zum Austausch am 24.09
DESCRIPTION:Über die Sommermonate hatte der Vorstand die Arbeits- und Proj
 ektgruppen sowie Netzwerke gebeten sich innerhalb ihrer Gruppen über die 
 von ihnen genutzten und auch gewünschten Kommunikationswege auszutauschen
  und für uns zusammenzustellen. Als nächsten Schritt in der Überarbeitu
 ng und Neuausrichtung der Kommunikation nach innen und außen laden wir am
  Freitag\, am 24.09. von 10 bis 12 Uhr stattfindet zu einem Treffen über 
 zoom ein. Alle Sprecher*innen hatten vorab bereits eine Einladung inkl. de
 m Link erhalten\; alle anderen\, die teilnehmen möchten\, schreiben bitte
  eine Mail an david.lohner@kit.edu.\n\nIn dem Treffen möchten wir die bis
 herigen Ergebnisse zur externen Kommunikation der dghd aus den Gruppen und
  Netzwerken vorstellen und Raum für Fragen geben. In zwei parallelen Arbe
 itsphasen mit dem Schwerpunk der dghd-internen Kommunikation laden wir zur
  Diskussion der Neuausrichtung oder der besseren Nutzung bestehender Wege 
 ein.\n\nDer gesamte Vorstand freut sich\, dass der Prozess bisher so fruch
 tbar verlaufen ist und wir hoffen auf eine rege Teilnahme an dem Meeting f
 ür die nächsten Schritte.
END:VEVENT
BEGIN:VTIMEZONE
TZID:Europe/Berlin
X-LIC-LOCATION:Europe/Berlin
BEGIN:DAYLIGHT
DTSTART:20210328T030000
TZOFFSETFROM:+0100
TZOFFSETTO:+0200
TZNAME:CEST
END:DAYLIGHT
END:VTIMEZONE
END:VCALENDAR