BEGIN:VCALENDAR
VERSION:2.0
PRODID:-//wp-events-plugin.com//7.2.3.1//EN
TZID:Europe/Berlin
X-WR-TIMEZONE:Europe/Berlin
BEGIN:VEVENT
UID:487@dghd.de
DTSTART;TZID=Europe/Berlin;VALUE=DATE:20221021
DTEND;TZID=Europe/Berlin;VALUE=DATE:20221022
DTSTAMP:20221005T074700Z
URL:https://www.dghd.de/events/ki-fachfremd-lehren-erfahrungen-aus-dem-fel
 lowship-programm/
SUMMARY:KI fachfremd lehren - Erfahrungen aus dem Fellowship-Programm
DESCRIPTION:Wie kann man als Nicht-Informatiker:in Künstliche Intelligenz 
 in die eigene Lehre bringen? Wie können die offen-lizenzierten KI-Campus-
 Lernangebote dabei unterstützen? Und welche Rolle spielen Praxisprojekte 
 bei einer anwendungsorientierten Herangehensweise?\n\nIn den letzten beide
 n Semestern haben die 18 Fellows des KI-Campus (Hochschullehrende untersch
 iedlichster Fachbereiche) Künstliche Intelligenz als Studieninhalt in ihr
 e Lehrveranstaltungen gebracht und dabei digitale Lernangeboten des KI-Cam
 pus integriert. Neben Blended-Learning-Strategien lag der Fokus auf einer 
 praxisorientierten KI-Vermittlung. Daher beinhaltete jedes Fellow-Projekt 
 ein Praxisprojekt für die Studierenden.\n\nDie zahlreichen Erkenntnisse u
 nd Erfahrungen aus dem Fellowship-Programm möchten die Fellows nun mit an
 deren Hochschullehrenden teilen. Bei der digitalen Veranstaltung wird es k
 urze Impulse\, Projektvorstellungen und ausgiebige interaktive Diskussions
 runden geben.\n\nWann? Freitag\, 21. Oktober 2022\, 10:00 -12:30 Uhr\nFür
  wen? Die Veranstaltung ist kostenfrei und steht allen Interessierten offe
 n. Vor allem für Hochschullehrende\, die sich für die Themen KI\, Data S
 cience und Blended Learning interessieren\, ist die Veranstaltung geeignet
 .\nWo? Digital (Link zur Teilnahme erhalten die Angemeldeten am Vortag)
ATTACH;FMTTYPE=image/jpeg:https://www.dghd.de/wp-content/uploads/2022/09/2
 022-09-30_Fellow-Abschlussveranstaltung_TW.png
END:VEVENT
BEGIN:VTIMEZONE
TZID:Europe/Berlin
X-LIC-LOCATION:Europe/Berlin
BEGIN:DAYLIGHT
DTSTART:20220327T030000
TZOFFSETFROM:+0100
TZOFFSETTO:+0200
TZNAME:CEST
END:DAYLIGHT
END:VTIMEZONE
END:VCALENDAR