BEGIN:VCALENDAR
VERSION:2.0
PRODID:-//wp-events-plugin.com//7.2.3.1//EN
TZID:Europe/Berlin
X-WR-TIMEZONE:Europe/Berlin
BEGIN:VEVENT
UID:475@dghd.de
DTSTART;TZID=Europe/Berlin;VALUE=DATE:20230216
DTEND;TZID=Europe/Berlin;VALUE=DATE:20230218
DTSTAMP:20220713T145417Z
URL:https://www.dghd.de/events/icm-is-calling-call-for-participation/
SUMMARY:ICM is Calling! – Call for Participation
DESCRIPTION:Die zwölfte Tagung „Inverted Classroom and beyond“ widmet 
 sich in diesem Jahr dem Fokusthema Agile Didaktik für nachhaltige Bildung
 . Eine intensive Auseinandersetzung mit diesen Inhalten wird durch vielfä
 ltige Formate initiiert und begleitet. Durch die Möglichkeit\, andere Pr
 äsentationsformate selbst zu erleben und mitzugestalten\, können gleichz
 eitig Impulse zur Weiterentwicklung innovativer Hochschuldidaktik entstehe
 n. Die Tagung ist eine D-A-CH-Tagung und findet im Jahr 2023 in der Schwei
 z statt und wird wo möglich online gestreamt.
ATTACH;FMTTYPE=image/jpeg:https://www.dghd.de/wp-content/uploads/2022/07/i
 cm-header-neu-2.jpg
END:VEVENT
BEGIN:VTIMEZONE
TZID:Europe/Berlin
X-LIC-LOCATION:Europe/Berlin
BEGIN:STANDARD
DTSTART:20221030T020000
TZOFFSETFROM:+0200
TZOFFSETTO:+0100
TZNAME:CET
END:STANDARD
END:VTIMEZONE
END:VCALENDAR