BEGIN:VCALENDAR
VERSION:2.0
PRODID:-//wp-events-plugin.com//7.2.3.1//EN
TZID:Europe/Berlin
X-WR-TIMEZONE:Europe/Berlin
BEGIN:VEVENT
UID:397@dghd.de
DTSTART;TZID=Europe/Berlin;VALUE=DATE:20210623
DTEND;TZID=Europe/Berlin;VALUE=DATE:20210624
DTSTAMP:20210608T110927Z
URL:https://www.dghd.de/events/hodapro-barcamp/
SUMMARY:HoDaPro-Barcamp
DESCRIPTION:Barcamp zur Professionalisierung hochschuldidaktisch Tätiger\n
 \nDie Weiterbildung des BMBF-Projekts "HoDaPro - Neue hochschuldidaktische
  Professionelle – Berufsrollen und Berufsentwicklungen in der Hochschuld
 idaktik als Beitrag zur Qualitätsentwicklung im third space" läuft berei
 ts seit über einem halben Jahr - Zeit\, um in den Austausch zu gehen.\n\n
 Für Mittwoch den 23.06. von 15:30 Uhr bis 17:30 Uhr laden wir alle Intere
 ssierten herzlich zu einem Barcamp gemeinsam mit den Teilnehmenden der Wei
 terbildung WB HoDaPro ein. Behandelt werden hochschuldidaktische Themen\, 
 die auch in der Weiterbildung eine Rolle spielen\, wie beispielsweise Prof
 essionalisierung\, Organisationsentwicklung und das berufliche Selbstverst
 ändnis. Gemäß den Regeln eines Barcamps freuen wir uns auch über Theme
 nvorschläge von Ihnen. Das Ziel der Veranstaltung ist es\, in Austausch z
 u kommen und den Diskurs zur Professionalisierung hochschuldidaktisch Tät
 iger voranzutreiben. Im Anschluss an die Veranstaltung soll es außerdem e
 in informelles Gathering geben - wer kann\, darf also gern mehr Zeit einpl
 anen.\n\nFür die kostenlose Teilnahme und um auch anschließend im besser
 en Kontakt mit dem Projekt und den Teilnehmenden der Weiterbildung zu blei
 ben\, können Sie sich auf https://www.hd-professionalisierung.de/ für de
 n Interessiertenbereich anmelden. Dort werden auch weitere Informationen z
 ur Veranstaltung und der Zoom-Link bekannt gegeben.\n\nWir freuen uns auf 
 ein gemeinsames Kennenlernen! Für Rückfragen wenden Sie sich gerne an: j
 ennifer.preiss@uni-hamburg.de
ATTACH;FMTTYPE=image/jpeg:https://www.dghd.de/wp-content/uploads/2021/06/H
 oDaPro-Banner_neu_Interessiertenbereich.png
END:VEVENT
BEGIN:VTIMEZONE
TZID:Europe/Berlin
X-LIC-LOCATION:Europe/Berlin
BEGIN:DAYLIGHT
DTSTART:20210328T030000
TZOFFSETFROM:+0100
TZOFFSETTO:+0200
TZNAME:CEST
END:DAYLIGHT
END:VTIMEZONE
END:VCALENDAR