BEGIN:VCALENDAR
VERSION:2.0
PRODID:-//wp-events-plugin.com//7.2.3.1//EN
TZID:Europe/Berlin
X-WR-TIMEZONE:Europe/Berlin
BEGIN:VEVENT
UID:424@dghd.de
DTSTART;TZID=Europe/Berlin;VALUE=DATE:20211122
DTEND;TZID=Europe/Berlin;VALUE=DATE:20211123
DTSTAMP:20210923T123221Z
URL:https://www.dghd.de/events/hochschulen-nachhaltig-denken-und-gestalten
 -7-tagung-hochschulcoaching-coaching-und-meehr/
SUMMARY:Hochschulen nachhaltig denken und gestalten     7. Tagung Hochschul
 Coaching - Coaching und Mee(h)r
DESCRIPTION:Wir freuen uns über Ihre/Eure Anmeldung!\n\nMit herzlichen Gr
 üßen aus dem KHN\nDr. Sabine Marx\n\nWir erheben keine Tagungsgebühren\
 n\nBitte melden Sie sich per mail an\n(Titel\, Name / Einrichtung / Hochsc
 hule / mailadresse)\n\nkhn@tu-braunschweig.de\n\nOrganisatorische und Frag
 en zum Programm beantworten Dr. Jochen Spielmann (jochen.spielmann@tu-brau
 nschweig.de) und Sabine Weigang im Büro (Tel.: 0531/319-4286)
ATTACH;FMTTYPE=image/jpeg:https://www.dghd.de/wp-content/uploads/2021/09/c
 sm_khn_tagung2021_titelbild_c6a75d460c.png
END:VEVENT
BEGIN:VTIMEZONE
TZID:Europe/Berlin
X-LIC-LOCATION:Europe/Berlin
BEGIN:STANDARD
DTSTART:20211031T020000
TZOFFSETFROM:+0200
TZOFFSETTO:+0100
TZNAME:CET
END:STANDARD
END:VTIMEZONE
END:VCALENDAR