BEGIN:VCALENDAR
VERSION:2.0
PRODID:-//wp-events-plugin.com//7.2.3.1//EN
TZID:Europe/Berlin
X-WR-TIMEZONE:Europe/Berlin
BEGIN:VEVENT
UID:473@dghd.de
DTSTART;TZID=Europe/Berlin;VALUE=DATE:20220913
DTEND;TZID=Europe/Berlin;VALUE=DATE:20220925
DTSTAMP:20220727T083858Z
URL:https://www.dghd.de/events/hfdxchange-die-kollegiale-fallberatung-des-
 hochschulforums-digitalisierung/
SUMMARY:HFDxChange - die kollegiale Fallberatung des Hochschulforums Digita
 lisierung
DESCRIPTION:Bei HFDxChange bringen Sie eine konkrete Herausforderung aus Ih
 rem Lehr- bzw. Hochschulalltag mit\, die Sie im Rahmen von HFDxChange bear
 beiten möchten. Das kann ein Fall sein\, der Sie bereits seit Jahren besc
 häftigt\, oder eine neue Fragestellung\, die beispielsweise erst durch di
 e Transformationen im Zusammenhang mit der Corona-Pandemie aufgetreten ist
 . In kleinen\, fünfköpfigen Teams beraten Sie sich wechselseitig zu Ihre
 n Fällen und entwickeln gemeinsam Lösungsideen. Dabei werden Sie vom HFD
 -Team angeleitet und begleitet. Weitere Informationen zur Methode der koll
 egialen Fallberatung\, Beispiele möglicher Fragestellungen sowie Erfahrun
 gsberichte von ehemaligen Teilnehmenden finden Sie auf dieser Seite.\nZiel
 gruppe und Vorkenntnisse\nHFDxChange richtet sich an Mitarbeiter:innen aus
  lehrunterstützenden Einrichtungen sowie an Lehrende und studentische Tut
 or:innen aller Hochschulen und Fachrichtungen. Besondere Vorkenntnisse wer
 den nicht benötigt.\nZeitplan und Zeitaufwand\nDas Format umfasst 10 Woch
 en von Mitte September bis Mitte November 2022. Innerhalb dieser Zeit find
 en drei Treffen in großer Runde (Kick-Off\, Sprechstunde und Wrap-Up) sow
 ie fünf selbstorganisierte Treffen in individuellen Beratungsteams statt.
 \n\nKick-Off: Dienstag\, 13.09.22\, 10:00-12:00 Uhr\n\nSprechstunde (Tei
 lnahme optional): Mittwoch\, 28.09.22\, 09:30-10:30 Uhr\n\nWrap-Up: Donne
 rstag\, 17.11.22\, 10:00-12:00 Uhr\n\nAlle drei Veranstaltungen finden onl
 ine über Zoom statt.\nKollegiale Fallberatung in Teams: Flexibel gestaltb
 ar\nZwischen Kick-Off und Wrap-Up treffen sich die Teams zu insgesamt fün
 f Beratungssessions\, für die jeweils ca. 90 Minuten eingeplant werden so
 llten. Diese Treffen können flexibel zwischen Mitte September und Mitte N
 ovember stattfinden - Koordination und Durchführung liegen in der Hand de
 r einzelnen Beratungsteams.\n\nDie Sprechstunde\, ungefähr zur Halbzeit d
 es Beratungszyklus\, bietet interessierten Teilnehmenden Gelegenheit sich 
 in größerer Runde zu bisherigen Erfahrungen und Herausforderungen auszut
 auschen und mit Gleichgesinnten zu vernetzen. Die Teilnahme hieran ist opt
 ional.\n\nDas HFDxChange-Team unterstützt und begleitet die Beratungsteam
 s bei Fragen organisatorischer oder methodischer Art.\nKaum Zeitaufwand f
 ür Vorbereitung\nFür die drei Veranstaltungen in großer Runde (Kick-Off
 \, Sprechstunde und Wrap-Up) bedarf es von Seiten der Teilnehmenden keiner
  inhaltlichen Vorbereitung.\n\nDie Beratungssessions in den Teams bedürfe
 n ebenfalls nur geringem zeitlichen Aufwand. Fallgeber:innen stellen sich 
 darauf ein\, ihre mitgebrachte Herausforderung kurz vorzustellen\; die Ber
 atung erfolgt dann spontan.\nTeilnahme\nBewerben Sie sich bis zum 21. Augu
 st 2022 mit einer Herausforderung aus Ihrem beruflichen Alltag\, zu der S
 ie neue Perspektiven und Lösungsideen suchen. Nutzen Sie dafür bitte da
 s Bewerbungsformular.\n\nTeilnehmende erhalten auf Wunsch eine Teilnahmeb
 estätigung (bitte im Bewerbungsformular angeben). Die Teilnahme an HFDxCh
 ange ist kostenfrei.
ATTACH;FMTTYPE=image/jpeg:https://www.dghd.de/wp-content/uploads/2022/07/H
 FDxchange.png
END:VEVENT
BEGIN:VTIMEZONE
TZID:Europe/Berlin
X-LIC-LOCATION:Europe/Berlin
BEGIN:DAYLIGHT
DTSTART:20220327T030000
TZOFFSETFROM:+0100
TZOFFSETTO:+0200
TZNAME:CEST
END:DAYLIGHT
END:VTIMEZONE
END:VCALENDAR