BEGIN:VCALENDAR
VERSION:2.0
PRODID:-//wp-events-plugin.com//7.2.3.1//EN
TZID:Europe/Berlin
X-WR-TIMEZONE:Europe/Berlin
BEGIN:VEVENT
UID:250@dghd.de
DTSTART;TZID=Europe/Berlin;VALUE=DATE:20200727
DTEND;TZID=Europe/Berlin;VALUE=DATE:20201009
DTSTAMP:20200630T223251Z
URL:https://www.dghd.de/events/hfd-digital-summer-school-2020/
SUMMARY:HFD Digital Summer School 2020
DESCRIPTION:Wir laden Sie ein: Bewerben Sie sich bis zum 30.06.2020 um an d
 er ersten digitalen Summer School des HFD teilzunehmen.\n\nWichtige Termin
 e:\n\n27.07.2020\, 14.00-15.30 Uhr: Kick-Off\n\nBegrüßung und organisato
 rische Punkte (Programm\, Plattformen und Tools)\, Kennenlernen und Teamfi
 ndung\n\n28.07.2020\, 14.00-15.30 Uhr: Einführung Kollegiale Beratung\n\n
 Idee und Ablauf der Kollegialen Beratung (Zeit\, Methoden und Rollenvertei
 lung im Team)\, Vorstellung Mentoring-Team\n\nDie Beratungsphase findet im
  August und September statt\, wobei die ca. 60-minütigen Beratungs-Sessio
 ns der einzelnen Teams individuell vereinbart werden. Das Mentoring-Team d
 es HFD steht auf Wunsch für Fragen zur Verfügung. Unsere Online-Plattfor
 m Mattermost bietet Raum für den Austausch auch über die einzelnen Teams
  hinaus.\n\nGemeinsame Check-Ins\n\nWährend der Beratungsphase kommen wir
  an drei Terminen in großer Runde zu Check-Ins zusammen. Hier tauschen wi
 r unsere Erfahrungen aus\, beantworten Fragen und berichten aus den Teams.
 \n\nLightning Talks\n\nIm Laufe der Summer School können die Teilnehmende
 n in 5-minütigen Blitzvorträgen gute Praxisbeispiele oder Erkenntnisse a
 us ihrer Arbeit vorstellen. Gerne laden wir Sie ein\, Ihrer Bewerbung eine
 n Vorschlag für einen Lightning Talk beizufügen.\n\n6.-8. Oktober 2020 
 \n\nAbschluss der digitalen Summer School 2020 auf dem University:Future F
 estival
END:VEVENT
BEGIN:VTIMEZONE
TZID:Europe/Berlin
X-LIC-LOCATION:Europe/Berlin
BEGIN:DAYLIGHT
DTSTART:20200329T030000
TZOFFSETFROM:+0100
TZOFFSETTO:+0200
TZNAME:CEST
END:DAYLIGHT
END:VTIMEZONE
END:VCALENDAR