BEGIN:VCALENDAR
VERSION:2.0
PRODID:-//wp-events-plugin.com//7.2.3.1//EN
TZID:Europe/Berlin
X-WR-TIMEZONE:Europe/Berlin
BEGIN:VEVENT
UID:416@dghd.de
DTSTART;TZID=Europe/Berlin;VALUE=DATE:20211012
DTEND;TZID=Europe/Berlin;VALUE=DATE:20211013
DTSTAMP:20210902T194739Z
URL:https://www.dghd.de/events/herbstforum-der-lehre-digitale-pruefungsfor
 mate/
SUMMARY:Herbstforum der Lehre: Digitale Prüfungsformate
DESCRIPTION:Welche Erfahrungen haben wir in drei Semestern mit digitalen Pr
 üfungen gesammelt? Welche Erkenntnisse konnten wir gewinnen? Welche Entwi
 cklungen erwarten wir für die Zukunft?\n\n 	Keynote von Dr.-Ing. Mathias 
 Magdowski\, Uni Magdeburg\n 	Möglichkeit des individuellen Austauschs mit
  allen Teilnehmer:innen\n 	Werkstatt-Panels mit Expert:innen\n 	Podiumsdis
 kussion: „Wie geht es weiter mit digitalen Prüfungen?\n\nVeranstaltungs
 zeitraum: 14-17 Uhr
ATTACH;FMTTYPE=image/jpeg:https://www.dghd.de/wp-content/uploads/2021/09/F
 oto_Herbstforum-scaled.jpg
END:VEVENT
BEGIN:VTIMEZONE
TZID:Europe/Berlin
X-LIC-LOCATION:Europe/Berlin
BEGIN:DAYLIGHT
DTSTART:20210328T030000
TZOFFSETFROM:+0100
TZOFFSETTO:+0200
TZNAME:CEST
END:DAYLIGHT
END:VTIMEZONE
END:VCALENDAR