BEGIN:VCALENDAR
VERSION:2.0
PRODID:-//wp-events-plugin.com//7.2.3.1//EN
TZID:Europe/Berlin
X-WR-TIMEZONE:Europe/Berlin
BEGIN:VEVENT
UID:420@dghd.de
DTSTART;TZID=Europe/Berlin;VALUE=DATE:20211022
DTEND;TZID=Europe/Berlin;VALUE=DATE:20211023
DTSTAMP:20210920T075150Z
URL:https://www.dghd.de/events/erstes-treffen-der-pg-satzung-und-geschaeft
 sfuehrung/
SUMMARY:Erstes Treffen der PG Satzung und Geschäftsführung
DESCRIPTION:Eine Neuerung\, die wir gerne als Vorstand unmittelbar angehen 
 möchten\, ist die Einrichtung und Etablierung einer hauptamtlichen Gesch
 äftsstelle\, die uns als ehrenamtlichen Vorstand hinsichtlich des operati
 ven Geschäfts entlasten würde. Somit könnten wir uns stärker auf unse
 re Aufgaben strategischer sowie inhaltlicher Natur konzentrieren. Da es si
 ch dabei um einen komplexen Prozess handelt\, der zudem mit weitreichenden
  Änderungen in der Satzung verbunden ist\, möchten wir eine Projektgrupp
 e „Satzung und Geschäftsführung“ einrichten und laden alle interes
 sierten Kolleginnen und Kollegen zur Mitarbeit ein.\n\nEin erstes Treffen 
 der Projektgruppe findet am Freitag\, den 22.10. 11-12 Uhr statt.\n\nWir f
 reuen uns über weitere Unterstützung in der Projektgruppe. Bei Interesse
  und für den zoom Link zum Treffen schreibt bitte an dorothea.ellinger@tu
 hh.de.
END:VEVENT
BEGIN:VTIMEZONE
TZID:Europe/Berlin
X-LIC-LOCATION:Europe/Berlin
BEGIN:DAYLIGHT
DTSTART:20210328T030000
TZOFFSETFROM:+0100
TZOFFSETTO:+0200
TZNAME:CEST
END:DAYLIGHT
END:VTIMEZONE
END:VCALENDAR