BEGIN:VCALENDAR
VERSION:2.0
PRODID:-//wp-events-plugin.com//7.2.3.1//EN
TZID:Europe/Berlin
X-WR-TIMEZONE:Europe/Berlin
BEGIN:VEVENT
UID:630@dghd.de
DTSTART;TZID=Europe/Berlin;VALUE=DATE:20250515
DTEND;TZID=Europe/Berlin;VALUE=DATE:20250616
DTSTAMP:20250505T105815Z
URL:https://www.dghd.de/events/einsatz-und-nutzen-von-ki-zu-fragen-der-per
 sonal-und-organisationsentwicklung-in-einrichtungen-der-lehre-und-forschun
 g/
SUMMARY:Einsatz und Nutzen von KI zu Fragen der Personal- und Organisations
 entwicklung in Einrichtungen der Lehre und Forschung
DESCRIPTION:
END:VEVENT
BEGIN:VTIMEZONE
TZID:Europe/Berlin
X-LIC-LOCATION:Europe/Berlin
BEGIN:DAYLIGHT
DTSTART:20250330T030000
TZOFFSETFROM:+0100
TZOFFSETTO:+0200
TZNAME:CEST
END:DAYLIGHT
END:VTIMEZONE
END:VCALENDAR