BEGIN:VCALENDAR
VERSION:2.0
PRODID:-//wp-events-plugin.com//7.2.3.1//EN
TZID:Europe/Berlin
X-WR-TIMEZONE:Europe/Berlin
BEGIN:VEVENT
UID:414@dghd.de
DTSTART;TZID=Europe/Berlin;VALUE=DATE:20210923
DTEND;TZID=Europe/Berlin;VALUE=DATE:20210924
DTSTAMP:20210830T132017Z
URL:https://www.dghd.de/events/drei-fragen-an-silke-bock-auftakte-einer-ge
 spraechsreihe-zu-den-bezugsdisziplinen-der-hd/
SUMMARY:Drei Fragen an Silke Bock - Auftakte einer Gesprächsreihe zu den B
 ezugsdisziplinen der HD
DESCRIPTION:Die Weiterbildungskommission der dghd lädt herzlich ein zum Zu
 hören\, Austauschen und Mitdiskutieren über die Bezugsdisziplinen der Ho
 chschuldidaktik. Wobei wir zu dem ein oder andern Termin Bezugsdisziplin s
 ehr weit öffnen und auch die Herkunftsdisziplin der eingeladenen Gäste d
 arunter fassen\, denn die Tätigen in der hochschuldidaktischen-Community 
 sind stark in Ihrer eigenen Disziplin beheimatet. Die verschiedenen Ausbil
 dungswege und einen fachlichen Kanon offen zu legen und zu diskutieren wir
 d der Weiterbildunsgkommission Impulse zur Weiterarbeit liefern\, um die P
 rofessionalisierung der Hochschuldidaktik anzutreiben.  Ein Jahr lang lad
 en wir regelmäßig Gäste ein\, die Einblick und Auskunft über die folge
 nden Fragen geben:\n\n 	Was ist Hochschuldidaktik für mich aus der Perspe
 ktive meiner Bezugsdisziplin?\n 	Wodurch bzw. in welchen Situationen zeigt
  sich meine Bezugsdisziplin in meiner hochschuldidaktischen Tätigkeit?\n 
 	Welches Potenzial und welche Herausforderungen sehe ich aus meiner Bezugs
 disziplin für die Hochschuldidaktik?\n\nDen Auftakt in unsere Gesprächsr
 eihe übernimmt Prof. Silke Bock am 23.09. 15.30-17.00 Uhr. Frau Bock ist 
 Professorin für Anwendungsorientierte Hochschuldidaktik/Akademische Perso
 nalentwicklung im Fachbereich Management und Kommunikation der Technischen
  Hochschule Mittelhessen. Ihre Bezugs- und Herkunftsdisziplin ist die Wirt
 schaftsgeografie.\n\nIm November setzen Dr. Martina Mörth und Dr. Nathali
 e Enders\, mit den Bezugsdisziplinen Psychologie und Kognitionswissenschaf
 ten die Reihe fort.\n\nAlle Termine gliedern sich grob folgendermaßen:\n\
 n 	25min Vortrag entlang der Leitfragen\n 	25min Zeit Rückfragen\n 	30min
  gemeinsame Diskussion\, optional als selbstmoderierter Austausch in Klein
 gruppen.\n\nEine Anmeldung ist nicht nötig. Zur Teilnahme nutzen Sie bitt
 e folgende Einwahldaten:\n\nhttps://tuhh.zoom.us/j/84664515055?pwd=S3haV1l
 YZ2N6TkFyL0Z1NVcvTGNLdz09\n\nMeeting-ID: 846 6451 5055\n\nKenncode: 231873
 \n\nEs erfolgt keine Aufzeichnung der Veranstaltung.\n\nWir freuen uns\, w
 enn Sie sich vorab mit zwei Fragen auf die Veranstaltung einstimmen und ih
 re ersten Gedanken anonym in diesem Etherpad mitteilen: https://pads.rz.tu
 hh.de/p/segZOgl1sJX7GCz-pyyO\n\nErgänzungen und ggf. Änderungen entnehme
 n Sie bitte https://www.dghd.de/die-dghd/kommissionen/weiterbildungskommis
 sion/\n\n&nbsp\;\n\n&nbsp\;
END:VEVENT
BEGIN:VTIMEZONE
TZID:Europe/Berlin
X-LIC-LOCATION:Europe/Berlin
BEGIN:DAYLIGHT
DTSTART:20210328T030000
TZOFFSETFROM:+0100
TZOFFSETTO:+0200
TZNAME:CEST
END:DAYLIGHT
END:VTIMEZONE
END:VCALENDAR