BEGIN:VCALENDAR
VERSION:2.0
PRODID:-//wp-events-plugin.com//7.2.3.1//EN
TZID:Europe/Berlin
X-WR-TIMEZONE:Europe/Berlin
BEGIN:VEVENT
UID:422@dghd.de
DTSTART;TZID=Europe/Berlin;VALUE=DATE:20210924
DTEND;TZID=Europe/Berlin;VALUE=DATE:20210925
DTSTAMP:20210920T075806Z
URL:https://www.dghd.de/events/digitale-tools-in-der-lehre-und-der-datensc
 hutz-teil-1/
SUMMARY:Digitale Tools in der Lehre und der Datenschutz - Teil 1
DESCRIPTION:Viele von uns sehen sich vermehrt mit der Frage konfrontiert\, 
 ob wir digitale Tools jenseits des von der jeweiligen Hochschule oder Univ
 ersität betriebenen Lernmanangement- oder offiziell eingesetzten Videokon
 ferenzsystems nutzen können. Die Herausforderung ist hierbei\, dass solch
 e Tools von den jeweiligen Datenschutzbeauftragten im Vorfeld geprüft und
  freigegeben werden und individuelle Datenschutzerklärungen etc. erstellt
  werden müssen. Die Herausforderungen liegen darin\, dass nur wenige Hoch
 schulen offizielle Guidelines verabschiedet haben\, die Lehrenden und Mita
 rbeiterInnen in Service-Einrichtungen Orientierung geben\, welche Tools si
 e nutzen können und welche nicht. Und gleichzeitig stieg durch die “Cor
 ona-Semester” und dem damit verbundenen vermehrten Einsatz digitaler Med
 ien in der Lehre der Bedarf und das Interesse bei Lehrenden und Studierend
 en\, entsprechende Tools jenseits der offiziellen Plattformen einzusetzen.
 \n\nIm Rahmen zweier online Gesprächstermine möchte die AG Digitale Medi
 en der DGHD in Kooperation mit der Gesellschaft für Medien in der Wissens
 chaft (GMW) den Austausch zu den oben geschilderten Fragestellungen und He
 rausforderungen befördern. In dem ersten Treffen\, das am 24.9.2021 um 11
  Uhr stattfindet\, möchten wir das Thema eröffnen und Eure Fragestellung
 en und Anliegen sammeln. Zudem haben wir mit Jan Hansen\, Jurist am httc d
 er TU Darmstadt\, einen Experten eingeladen\, der mit Fachexpertise auf ve
 rschiedene Aspekte eingehen kann.\n\nIn einem zweiten Termin\, der am 30.9
 .2021 ebenfalls um 11 Uhr stattfindet\, wollen wir uns gegenseitig Beispie
 le für mögliche Lösungsansätze vorstellen und mit Euch zusammen ein Po
 sitionspapier zu dem Thema zu erstellen\, welches wir im Anschluss den Vor
 ständen von DGHD und GMW zur Weitergabe anbieten.\n\nHier die Abläufe de
 r beiden Sitzungen im Detail:\n\nTermin 1: 24.09.2021\, 11:00 Uhr - 13:00 
 Uhr\n\nSammlung: Welche Fragestellungen und Herausforderungen bestehen in 
 Kontext der Nutzung von Tools unter Datenschutzaspekten bei Euch?\n\nInput
  und Austausch mit dem Experten Jan Hansen\, httc\, TU Darmstadt Diskussio
 n und Besprechung der weiteren Vorgehensweise\n\nTermin 2: 30.09.2021 11:0
 0 Uhr- 13:00 Uhr\n\nBeispiele der datenschutzrechtlichen Vorgehensweise un
 d Lösungen nur Nutzung von digitalen Tools in der Lehre in diversen Hochs
 chulen Gemeinsame Erstellung eines Positionspapiers\, welches die Schwieri
 gkeiten der aktuellen Gesetzeslage erläutert und anschliessendan die Vors
 tände von DGHD und GMW zur Prüfung\, weiteren Bearbeitung und Weitergabe
  übergeben wird.\n\nDokumentation von Beispielen\n\nZudem haben wir ein C
 ryptoboard erstellt\, indem ihr Tools einstellen könnt\, die bei Euch an 
 den Hochschulen offiziell vom  Datenschutz geprüft und erlaubt wurden.\n
 \nLink: https://cryptpad.fr/sheet/#/2/sheet/edit/q6uS0V3YQKGvo0NfJGsU+ctM/
 \n\n&nbsp\;\n\nSofern möglich gebt bitte auch die jeweiligen individuelle
 n Datenschutzerklärung und Information an\, damit wir so Wissen und Erfah
 rungen austauschen können. Falls ihr bereits existierende Sammlungen dies
 er Art kennt\, tragt diese bitte auch gerne ein.\n\nWir hoffen\, dass Ihr
   Zeit und Interesse habt\, sich zu dem Thema einzubringen\, damit die Nu
 tzung von Tools nicht nach der Pandemie den Hürden\, die die datenschutzr
 echtliche Prüfung darstellt\, zum Opfer fällt und so auch Chancen für e
 ine vielfältige\, motivierende und aktivierende Gestaltung von Lehre mit 
 Hilfe digitaler Medien.\n\n&nbsp\;
END:VEVENT
BEGIN:VTIMEZONE
TZID:Europe/Berlin
X-LIC-LOCATION:Europe/Berlin
BEGIN:DAYLIGHT
DTSTART:20210328T030000
TZOFFSETFROM:+0100
TZOFFSETTO:+0200
TZNAME:CEST
END:DAYLIGHT
END:VTIMEZONE
END:VCALENDAR