BEGIN:VCALENDAR
VERSION:2.0
PRODID:-//wp-events-plugin.com//7.2.3.1//EN
TZID:Europe/Berlin
X-WR-TIMEZONE:Europe/Berlin
BEGIN:VEVENT
UID:478@dghd.de
DTSTART;TZID=Europe/Berlin;VALUE=DATE:20220915
DTEND;TZID=Europe/Berlin;VALUE=DATE:20220916
DTSTAMP:20220819T070025Z
URL:https://www.dghd.de/events/call-for-participation-werkstatt-konferenz-
 zu-digitalen-transformationen-in-der-hochschulbildung/
SUMMARY:[Call for Participation] Werkstatt-Konferenz zu digitalen Transform
 ationen in der Hochschulbildung
DESCRIPTION:
END:VEVENT
BEGIN:VTIMEZONE
TZID:Europe/Berlin
X-LIC-LOCATION:Europe/Berlin
BEGIN:DAYLIGHT
DTSTART:20220327T030000
TZOFFSETFROM:+0100
TZOFFSETTO:+0200
TZNAME:CEST
END:DAYLIGHT
END:VTIMEZONE
END:VCALENDAR