BEGIN:VCALENDAR
VERSION:2.0
PRODID:-//wp-events-plugin.com//7.2.3.1//EN
TZID:Europe/Berlin
X-WR-TIMEZONE:Europe/Berlin
BEGIN:VEVENT
UID:429@dghd.de
DTSTART;TZID=Europe/Berlin;VALUE=DATE:20211215
DTEND;TZID=Europe/Berlin;VALUE=DATE:20211216
DTSTAMP:20211026T120710Z
URL:https://www.dghd.de/events/call-for-papers-scholarship-of-teaching-and
 -learning/
SUMMARY:Call for Papers: Scholarship of Teaching and Learning
DESCRIPTION:Eine forschungsgeleitete Fundierung und Weiterentwicklung hochs
 chul(fach)didaktischen Handelns" im Rahmen der Cologne Open Science-Schrif
 tenreihe „Forschung und Innovation in der Hochschulbildung“ (FIHB). Ei
 nreichungen sind bis zum 15. Dezember 2021 möglich. Weitere Informationen
  zum CfP gibt es hier.
END:VEVENT
BEGIN:VTIMEZONE
TZID:Europe/Berlin
X-LIC-LOCATION:Europe/Berlin
BEGIN:STANDARD
DTSTART:20211031T020000
TZOFFSETFROM:+0200
TZOFFSETTO:+0100
TZNAME:CET
END:STANDARD
END:VTIMEZONE
END:VCALENDAR