BEGIN:VCALENDAR
VERSION:2.0
PRODID:-//wp-events-plugin.com//7.2.3.1//EN
TZID:Europe/Berlin
X-WR-TIMEZONE:Europe/Berlin
BEGIN:VEVENT
UID:514@dghd.de
DTSTART;TZID=Europe/Berlin;VALUE=DATE:20230601
DTEND;TZID=Europe/Berlin;VALUE=DATE:20230602
DTSTAMP:20230404T085544Z
URL:https://www.dghd.de/events/call-for-abstracts-zum-7-tag-der-digitalen-
 lehre-der-oth-regensburg-und-der-universitaet-regensburg/
SUMMARY:Call for Abstracts zum 7. Tag der digitalen Lehre der OTH Regensbur
 g und der Universität Regensburg
DESCRIPTION:Future Skills sind Kompetenzen\, die in der Arbeitswelt von mor
 gen vorausgesetzt werden\, weil sie zu selbständigem und innovativem Hand
 eln in einer sich schnell verändernden Welt befähigen. Analoge und digit
 ale Aspekte werden nicht mehr getrennt\, sondern in Wechselwirkung betrach
 tet.\nWie spiegeln sich diese im Lehralltag? Wie können Future Skills in 
 die Lehre integriert werden\, damit sie nicht „on top“\, sondern inklu
 siv gedacht werden? Unter dem Motto „The Future is Skills“ sind Lehren
 de aller Fachbereiche eingeladen\, ihre Pläne und Erfahrungen bei der Kon
 zeption\, Umsetzung und Integration dieser zu teilen.\n\nBeitragsformen\nP
 raxisbeispiele und Erfahrungsberichte können asynchron als Infoblatt (max
 . zweiseitig\, PDF-Format) oder in Form eines kurzen Videos (max. 10 Minut
 en: Vortragsaufzeichnung\, vertonter Screencast...) präsentiert werden.\n
 Bitte beachten Sie\, dass Abstracts maximal 2.500 Zeichen (inkl. Leerzeich
 en) umfassen dürfen.
ATTACH;FMTTYPE=image/jpeg:https://www.dghd.de/wp-content/uploads/2023/04/C
 fA-TddL-2023.png
END:VEVENT
BEGIN:VTIMEZONE
TZID:Europe/Berlin
X-LIC-LOCATION:Europe/Berlin
BEGIN:DAYLIGHT
DTSTART:20230326T030000
TZOFFSETFROM:+0100
TZOFFSETTO:+0200
TZNAME:CEST
END:DAYLIGHT
END:VTIMEZONE
END:VCALENDAR