BEGIN:VCALENDAR
VERSION:2.0
PRODID:-//wp-events-plugin.com//7.2.3.1//EN
TZID:Europe/Berlin
X-WR-TIMEZONE:Europe/Berlin
BEGIN:VEVENT
UID:466@dghd.de
DTSTART;TZID=Europe/Berlin;VALUE=DATE:20220615
DTEND;TZID=Europe/Berlin;VALUE=DATE:20220616
DTSTAMP:20220615T083144Z
URL:https://www.dghd.de/events/8-tag-der-lehre-der-universitaet-leipzig-pr
 aesenzuniversitaet-der-zukunft-im-digitalen-zeitalter/
SUMMARY:8. Tag der Lehre der Universität Leipzig | Präsenzuniversität de
 r Zukunft im digitalen Zeitalter
DESCRIPTION:Diskutieren Sie beim 8. Tag der Lehre der Universität Leipzig 
 am 15. Juni 2022 was eine „Präsenzuniversität der Zukunft“ ausmacht.
  Ausgehend von einer guten Präsenzlehre\, werden Chancen sowie Herausford
 erungen im Umgang mit dem Einsatz digitaler Technologien und deren Auswirk
 ungen thematisiert. Der Tag der Lehre bietet einen Raum\, um mit anderen e
 in gemeinsames Verständnis von guter Lehre im digitalen Zeitalter zu sch
 ärfen. Weitere Informationen zum Programm und zur Anmeldung finden Sie un
 ter: www.uni-leipzig.de/tdl.\n\nWir freuen uns Sie beim Tag der Lehre begr
 üßen zu dürfen!\n\n&nbsp\;
ATTACH;FMTTYPE=image/jpeg:https://www.dghd.de/wp-content/uploads/2022/06/2
 022_01_25_Banner_Tag_der_Lehre.jpg
END:VEVENT
BEGIN:VTIMEZONE
TZID:Europe/Berlin
X-LIC-LOCATION:Europe/Berlin
BEGIN:DAYLIGHT
DTSTART:20220327T030000
TZOFFSETFROM:+0100
TZOFFSETTO:+0200
TZNAME:CEST
END:DAYLIGHT
END:VTIMEZONE
END:VCALENDAR